BEGIN:VCALENDAR
VERSION:2.0
PRODID:-//VIA Research Center - ECPv6.15.18//NONSGML v1.0//EN
CALSCALE:GREGORIAN
METHOD:PUBLISH
X-ORIGINAL-URL:https://www.via-center.science
X-WR-CALDESC:Events for VIA Research Center
REFRESH-INTERVAL;VALUE=DURATION:PT1H
X-Robots-Tag:noindex
X-PUBLISHED-TTL:PT1H
BEGIN:VTIMEZONE
TZID:Europe/Athens
BEGIN:DAYLIGHT
TZOFFSETFROM:+0200
TZOFFSETTO:+0300
TZNAME:EEST
DTSTART:20230326T010000
END:DAYLIGHT
BEGIN:STANDARD
TZOFFSETFROM:+0300
TZOFFSETTO:+0200
TZNAME:EET
DTSTART:20231029T010000
END:STANDARD
BEGIN:DAYLIGHT
TZOFFSETFROM:+0200
TZOFFSETTO:+0300
TZNAME:EEST
DTSTART:20240331T010000
END:DAYLIGHT
BEGIN:STANDARD
TZOFFSETFROM:+0300
TZOFFSETTO:+0200
TZNAME:EET
DTSTART:20241027T010000
END:STANDARD
BEGIN:DAYLIGHT
TZOFFSETFROM:+0200
TZOFFSETTO:+0300
TZNAME:EEST
DTSTART:20250330T010000
END:DAYLIGHT
BEGIN:STANDARD
TZOFFSETFROM:+0300
TZOFFSETTO:+0200
TZNAME:EET
DTSTART:20251026T010000
END:STANDARD
END:VTIMEZONE
BEGIN:VEVENT
DTSTART;VALUE=DATE:20240422
DTEND;VALUE=DATE:20240427
DTSTAMP:20260425T210724
CREATED:20240408T135848Z
LAST-MODIFIED:20240408T135935Z
UID:10000011-1713744000-1714175999@www.via-center.science
SUMMARY:EG 2024
DESCRIPTION:
URL:https://www.via-center.science/event/eg-2024/
LOCATION:The St. Raphael Resort\, Limassol\, Cyprus
CATEGORIES:Conference
ATTACH;FMTTYPE=image/gif:https://www.via-center.science/files/2024/04/EG24-animated-with-alpha.gif
ORGANIZER;CN="EUROGRAPHICS Association":MAILTO:secretary@eg.org
END:VEVENT
END:VCALENDAR