BEGIN:VCALENDAR
VERSION:2.0
PRODID:-//VIA Research Center - ECPv6.15.18//NONSGML v1.0//EN
CALSCALE:GREGORIAN
METHOD:PUBLISH
X-WR-CALNAME:VIA Research Center
X-ORIGINAL-URL:https://www.via-center.science
X-WR-CALDESC:Events for VIA Research Center
REFRESH-INTERVAL;VALUE=DURATION:PT1H
X-Robots-Tag:noindex
X-PUBLISHED-TTL:PT1H
BEGIN:VTIMEZONE
TZID:America/Los_Angeles
BEGIN:DAYLIGHT
TZOFFSETFROM:-0800
TZOFFSETTO:-0700
TZNAME:PDT
DTSTART:20240310T100000
END:DAYLIGHT
BEGIN:STANDARD
TZOFFSETFROM:-0700
TZOFFSETTO:-0800
TZNAME:PST
DTSTART:20241103T090000
END:STANDARD
BEGIN:DAYLIGHT
TZOFFSETFROM:-0800
TZOFFSETTO:-0700
TZNAME:PDT
DTSTART:20250309T100000
END:DAYLIGHT
BEGIN:STANDARD
TZOFFSETFROM:-0700
TZOFFSETTO:-0800
TZNAME:PST
DTSTART:20251102T090000
END:STANDARD
BEGIN:DAYLIGHT
TZOFFSETFROM:-0800
TZOFFSETTO:-0700
TZNAME:PDT
DTSTART:20260308T100000
END:DAYLIGHT
BEGIN:STANDARD
TZOFFSETFROM:-0700
TZOFFSETTO:-0800
TZNAME:PST
DTSTART:20261101T090000
END:STANDARD
END:VTIMEZONE
BEGIN:VTIMEZONE
TZID:Asia/Hong_Kong
BEGIN:STANDARD
TZOFFSETFROM:+0800
TZOFFSETTO:+0800
TZNAME:HKT
DTSTART:20240101T000000
END:STANDARD
END:VTIMEZONE
BEGIN:VEVENT
DTSTART;VALUE=DATE:20251202
DTEND;VALUE=DATE:20251208
DTSTAMP:20260425T222201
CREATED:20250930T141750Z
LAST-MODIFIED:20250930T141750Z
UID:10000018-1764633600-1765151999@www.via-center.science
SUMMARY:2025 NeurIPS – 39th Conference on Neural Information Processing Systems
DESCRIPTION:
URL:https://www.via-center.science/event/2025-neurips-39th-conference-on-neural-information-processing-systems/
LOCATION:San Diego Convention Center\, CA\, United States
CATEGORIES:Conference
ATTACH;FMTTYPE=image/jpeg:https://www.via-center.science/files/2025/09/neurips_2025_hero.jpg
END:VEVENT
BEGIN:VEVENT
DTSTART;VALUE=DATE:20251215
DTEND;VALUE=DATE:20251219
DTSTAMP:20260425T222201
CREATED:20250103T142253Z
LAST-MODIFIED:20250106T140109Z
UID:10000013-1765756800-1766102399@www.via-center.science
SUMMARY:SIGGRAPH ASIA 2025
DESCRIPTION:
URL:https://www.via-center.science/event/siggraph-asia-2025/
LOCATION:Hong Kong Convention and Exhibition Centre\, Hong Kong\, China
CATEGORIES:Conference
ATTACH;FMTTYPE=image/png:https://www.via-center.science/files/2025/01/asia-2025.png
END:VEVENT
END:VCALENDAR