BEGIN:VCALENDAR
VERSION:2.0
PRODID:-//VIA Research Center - ECPv6.15.18//NONSGML v1.0//EN
CALSCALE:GREGORIAN
METHOD:PUBLISH
X-WR-CALNAME:VIA Research Center
X-ORIGINAL-URL:https://www.via-center.science
X-WR-CALDESC:Events for VIA Research Center
REFRESH-INTERVAL;VALUE=DURATION:PT1H
X-Robots-Tag:noindex
X-PUBLISHED-TTL:PT1H
BEGIN:VTIMEZONE
TZID:America/North_Dakota/Center
BEGIN:DAYLIGHT
TZOFFSETFROM:-0600
TZOFFSETTO:-0500
TZNAME:CDT
DTSTART:20220313T080000
END:DAYLIGHT
BEGIN:STANDARD
TZOFFSETFROM:-0500
TZOFFSETTO:-0600
TZNAME:CST
DTSTART:20221106T070000
END:STANDARD
BEGIN:DAYLIGHT
TZOFFSETFROM:-0600
TZOFFSETTO:-0500
TZNAME:CDT
DTSTART:20230312T080000
END:DAYLIGHT
BEGIN:STANDARD
TZOFFSETFROM:-0500
TZOFFSETTO:-0600
TZNAME:CST
DTSTART:20231105T070000
END:STANDARD
BEGIN:DAYLIGHT
TZOFFSETFROM:-0600
TZOFFSETTO:-0500
TZNAME:CDT
DTSTART:20240310T080000
END:DAYLIGHT
BEGIN:STANDARD
TZOFFSETFROM:-0500
TZOFFSETTO:-0600
TZNAME:CST
DTSTART:20241103T070000
END:STANDARD
END:VTIMEZONE
BEGIN:VTIMEZONE
TZID:Europe/Berlin
BEGIN:DAYLIGHT
TZOFFSETFROM:+0100
TZOFFSETTO:+0200
TZNAME:CEST
DTSTART:20210328T010000
END:DAYLIGHT
BEGIN:STANDARD
TZOFFSETFROM:+0200
TZOFFSETTO:+0100
TZNAME:CET
DTSTART:20211031T010000
END:STANDARD
BEGIN:DAYLIGHT
TZOFFSETFROM:+0100
TZOFFSETTO:+0200
TZNAME:CEST
DTSTART:20220327T010000
END:DAYLIGHT
BEGIN:STANDARD
TZOFFSETFROM:+0200
TZOFFSETTO:+0100
TZNAME:CET
DTSTART:20221030T010000
END:STANDARD
BEGIN:DAYLIGHT
TZOFFSETFROM:+0100
TZOFFSETTO:+0200
TZNAME:CEST
DTSTART:20230326T010000
END:DAYLIGHT
BEGIN:STANDARD
TZOFFSETFROM:+0200
TZOFFSETTO:+0100
TZNAME:CET
DTSTART:20231029T010000
END:STANDARD
BEGIN:DAYLIGHT
TZOFFSETFROM:+0100
TZOFFSETTO:+0200
TZNAME:CEST
DTSTART:20240331T010000
END:DAYLIGHT
BEGIN:STANDARD
TZOFFSETFROM:+0200
TZOFFSETTO:+0100
TZNAME:CET
DTSTART:20241027T010000
END:STANDARD
END:VTIMEZONE
BEGIN:VEVENT
DTSTART;VALUE=DATE:20231210
DTEND;VALUE=DATE:20231217
DTSTAMP:20260425T184110
CREATED:20231129T140756Z
LAST-MODIFIED:20231129T140756Z
UID:10000009-1702166400-1702771199@www.via-center.science
SUMMARY:NeuRips 2023
DESCRIPTION:
URL:https://www.via-center.science/event/neurips-2023/
LOCATION:New Orleans Convention Center\, 900 Convention Center Blvd\, New Orleans\, LA\, 70130\, United States
CATEGORIES:Conference
ATTACH;FMTTYPE=image/png:https://www.via-center.science/files/2023/11/NeuRips.png
END:VEVENT
BEGIN:VEVENT
DTSTART;VALUE=DATE:20231130
DTEND;VALUE=DATE:20231202
DTSTAMP:20260425T184110
CREATED:20230825T133050Z
LAST-MODIFIED:20231128T121707Z
UID:10000005-1701302400-1701475199@www.via-center.science
SUMMARY:30 Years Max Planck Institute for Informatics
DESCRIPTION:
URL:https://www.via-center.science/event/30-years-max-planck-institute-for-informatics/
LOCATION:Saarland Informatics Campus\, Campus\, Saarbrücken\, Saarland\, 66123\, Germany
CATEGORIES:Conference
ATTACH;FMTTYPE=image/png:https://www.via-center.science/files/2023/08/30Years.png
ORGANIZER;CN="Max Planck Institute for Informatics":MAILTO:info@mpi-inf.mpg.de
END:VEVENT
BEGIN:VEVENT
DTSTART;VALUE=DATE:20230806
DTEND;VALUE=DATE:20230811
DTSTAMP:20260425T184110
CREATED:20230614T132522Z
LAST-MODIFIED:20230712T091933Z
UID:10000004-1691280000-1691711999@www.via-center.science
SUMMARY:VIA Research Center at SIGGRAPH 2023
DESCRIPTION:Experience the innovative research showcased by VIA Research Center at SIGGRAPH 2023 in Los Angeles. Explore the latest advancements in visual computing\, artificial intelligence\, computer graphics\, and human-machine interaction. Discover groundbreaking breakthroughs and witness the future of technology unfold. Don’t miss this exciting opportunity to engage with our renowned research center and stay at the forefront of cutting-edge developments in the field.
URL:https://www.via-center.science/event/siggraph-2023-2/
LOCATION:Seattle Convention Center\, 705 Pike St\, Seattle\, Seattle\, WA\, 98101\, United States
CATEGORIES:Conference
ATTACH;FMTTYPE=image/jpeg:https://www.via-center.science/files/2023/06/siggraph-event-header.jpg
END:VEVENT
BEGIN:VEVENT
DTSTART;VALUE=DATE:20221109
DTEND;VALUE=DATE:20221110
DTSTAMP:20260425T184110
CREATED:20230614T132522Z
LAST-MODIFIED:20230713T115917Z
UID:10000002-1667952000-1668038399@www.via-center.science
SUMMARY:VIA Research Center Opening Ceremony
DESCRIPTION:The opening ceremony is held in the Günter Hotz Lecture Hall.
URL:https://www.via-center.science/event/siggraph-2023/
LOCATION:Saarland Informatics Campus\, Campus\, Saarbrücken\, Saarland\, 66123\, Germany
CATEGORIES:Conference
ATTACH;FMTTYPE=image/jpeg:https://www.via-center.science/files/2023/07/VIA_00200-s.jpg
ORGANIZER;CN="Max Planck Institute for Informatics":MAILTO:info@mpi-inf.mpg.de
END:VEVENT
END:VCALENDAR