BEGIN:VCALENDAR
VERSION:2.0
PRODID:-//VIA Research Center - ECPv6.15.18//NONSGML v1.0//EN
CALSCALE:GREGORIAN
METHOD:PUBLISH
X-ORIGINAL-URL:https://www.via-center.science
X-WR-CALDESC:Events for VIA Research Center
REFRESH-INTERVAL;VALUE=DURATION:PT1H
X-Robots-Tag:noindex
X-PUBLISHED-TTL:PT1H
BEGIN:VTIMEZONE
TZID:Asia/Hong_Kong
BEGIN:STANDARD
TZOFFSETFROM:+0800
TZOFFSETTO:+0800
TZNAME:HKT
DTSTART:20250101T000000
END:STANDARD
END:VTIMEZONE
BEGIN:VTIMEZONE
TZID:America/Los_Angeles
BEGIN:DAYLIGHT
TZOFFSETFROM:-0800
TZOFFSETTO:-0700
TZNAME:PDT
DTSTART:20250309T100000
END:DAYLIGHT
BEGIN:STANDARD
TZOFFSETFROM:-0700
TZOFFSETTO:-0800
TZNAME:PST
DTSTART:20251102T090000
END:STANDARD
BEGIN:DAYLIGHT
TZOFFSETFROM:-0800
TZOFFSETTO:-0700
TZNAME:PDT
DTSTART:20260308T100000
END:DAYLIGHT
BEGIN:STANDARD
TZOFFSETFROM:-0700
TZOFFSETTO:-0800
TZNAME:PST
DTSTART:20261101T090000
END:STANDARD
BEGIN:DAYLIGHT
TZOFFSETFROM:-0800
TZOFFSETTO:-0700
TZNAME:PDT
DTSTART:20270314T100000
END:DAYLIGHT
BEGIN:STANDARD
TZOFFSETFROM:-0700
TZOFFSETTO:-0800
TZNAME:PST
DTSTART:20271107T090000
END:STANDARD
END:VTIMEZONE
BEGIN:VEVENT
DTSTART;VALUE=DATE:20261201
DTEND;VALUE=DATE:20261205
DTSTAMP:20260426T052340
CREATED:20260422T133912Z
LAST-MODIFIED:20260422T133912Z
UID:10000024-1796083200-1796428799@www.via-center.science
SUMMARY:SIGGRAPH ASIA 2026
DESCRIPTION:
URL:https://www.via-center.science/event/siggraph-asia-2026/
LOCATION:Hong Kong Convention and Exhibition Centre\, Hong Kong\, China
CATEGORIES:Conference
ATTACH;FMTTYPE=image/png:https://www.via-center.science/files/2026/04/SIGGRAPH-Asia-2026.png
END:VEVENT
BEGIN:VEVENT
DTSTART;VALUE=DATE:20261206
DTEND;VALUE=DATE:20261214
DTSTAMP:20260426T052340
CREATED:20260422T135958Z
LAST-MODIFIED:20260422T140117Z
UID:10000025-1796515200-1797206399@www.via-center.science
SUMMARY:2026 NeurIPS – 40th Conference on Neural Information Processing Systems
DESCRIPTION:
URL:https://www.via-center.science/event/2026-neurips-40th-conference-on-neural-information-processing-systems/
CATEGORIES:Conference
ATTACH;FMTTYPE=image/svg+xml:https://www.via-center.science/files/2026/04/NeurIPS-logo.svg
END:VEVENT
END:VCALENDAR